BEGIN:VCALENDAR
VERSION:2.0
PRODID:-//Stand-Up Paddling in Luzern | Verkauf von Windsurf- SUP- und Kitematerial | Surfcorner - ECPv6.15.20//NONSGML v1.0//EN
CALSCALE:GREGORIAN
METHOD:PUBLISH
X-ORIGINAL-URL:https://www.surfcorner.ch
X-WR-CALDESC:Veranstaltungen für Stand-Up Paddling in Luzern | Verkauf von Windsurf- SUP- und Kitematerial | Surfcorner
REFRESH-INTERVAL;VALUE=DURATION:PT1H
X-Robots-Tag:noindex
X-PUBLISHED-TTL:PT1H
BEGIN:VTIMEZONE
TZID:Europe/Zurich
BEGIN:DAYLIGHT
TZOFFSETFROM:+0100
TZOFFSETTO:+0200
TZNAME:CEST
DTSTART:20220327T010000
END:DAYLIGHT
BEGIN:STANDARD
TZOFFSETFROM:+0200
TZOFFSETTO:+0100
TZNAME:CET
DTSTART:20221030T010000
END:STANDARD
BEGIN:DAYLIGHT
TZOFFSETFROM:+0100
TZOFFSETTO:+0200
TZNAME:CEST
DTSTART:20230326T010000
END:DAYLIGHT
BEGIN:STANDARD
TZOFFSETFROM:+0200
TZOFFSETTO:+0100
TZNAME:CET
DTSTART:20231029T010000
END:STANDARD
BEGIN:DAYLIGHT
TZOFFSETFROM:+0100
TZOFFSETTO:+0200
TZNAME:CEST
DTSTART:20240331T010000
END:DAYLIGHT
BEGIN:STANDARD
TZOFFSETFROM:+0200
TZOFFSETTO:+0100
TZNAME:CET
DTSTART:20241027T010000
END:STANDARD
END:VTIMEZONE
BEGIN:VEVENT
DTSTART;TZID=Europe/Zurich:20230720T190000
DTEND;TZID=Europe/Zurich:20230720T203000
DTSTAMP:20260425T191037
CREATED:20140803T153030Z
LAST-MODIFIED:20230508T194443Z
UID:1505-1689879600-1689885000@www.surfcorner.ch
SUMMARY:SUPer Donnschtig
DESCRIPTION:Du hast Lust am Feierabend den Surf-Lifestyle zu geniessen\, den Alltag hinter dir zu lassen und etwas für die Fitness zu tun? Du möchtest all dies aber nicht alleine geniessen\, sondern mit einer Gruppe von Gleichgesinnten den Tag ausklingen lassen? Dann lädt dich Surfcorner herzlich zum „After Work Paddling“ ein. Egal ob du Anfänger bist oder bereits ein angefressener „SUPler“\, bei uns sind alle gut aufgehoben. In kleinen Gruppen absolvieren wir jeweils eine schöne Tour im und um das Luzerner Seebecken. \nZur Anmeldung und weiteren Informationen
URL:https://www.surfcorner.ch/event/super-donnschtig-einfuehrungskurs-stand-up-paddling-6/
LOCATION:Lido Luzern\, Lidostrasse 6a\, Luzern\, 6006\, Schweiz
CATEGORIES:SUPer Donnschtig
ORGANIZER;CN="Wir - das Surfcorner Team":MAILTO:info@surfcorner.ch
END:VEVENT
BEGIN:VEVENT
DTSTART;TZID=Europe/Zurich:20230727T190000
DTEND;TZID=Europe/Zurich:20230727T203000
DTSTAMP:20260425T191037
CREATED:20180613T195731Z
LAST-MODIFIED:20230508T194506Z
UID:1917-1690484400-1690489800@www.surfcorner.ch
SUMMARY:SUPer Donnschtig
DESCRIPTION:Du hast Lust am Feierabend den Surf-Lifestyle zu geniessen\, den Alltag hinter dir zu lassen und etwas für die Fitness zu tun? Du möchtest all dies aber nicht alleine geniessen\, sondern mit einer Gruppe von Gleichgesinnten den Tag ausklingen lassen? Dann lädt dich Surfcorner herzlich zum „After Work Paddling“ ein. Egal ob du Anfänger bist oder bereits ein angefressener „SUPler“\, bei uns sind alle gut aufgehoben. In kleinen Gruppen absolvieren wir jeweils eine schöne Tour im und um das Luzerner Seebecken. \nZur Anmeldung und weiteren Informationen
URL:https://www.surfcorner.ch/event/super-donnschtig-einfuehrungskurs-stand-up-paddling-7/
LOCATION:Lido Luzern\, Lidostrasse 6a\, Luzern\, 6006\, Schweiz
CATEGORIES:SUPer Donnschtig
ATTACH;FMTTYPE=image/jpeg:https://www.surfcorner.ch/wp-content/uploads/2014/05/SUPer-Donnschtig.jpg
ORGANIZER;CN="Wir - das Surfcorner Team":MAILTO:info@surfcorner.ch
END:VEVENT
END:VCALENDAR